BEGIN:VCALENDAR
VERSION:2.0
PRODID:www.gruene-stadt-kitzingen.de
METHOD:PUBLISH
BEGIN:VTIMEZONE
TZID:Europe/Berlin
X-LIC-LOCATION:Europe/Berlin
BEGIN:DAYLIGHT
TZOFFSETFROM:+0100
TZOFFSETTO:+0200
TZNAME:CEST
DTSTART:19700329T020000
RRULE:FREQ=YEARLY;INTERVAL=1;BYDAY=-1SU;BYMONTH=3
END:DAYLIGHT
BEGIN:STANDARD
TZOFFSETFROM:+0200
TZOFFSETTO:+0100
TZNAME:CET
DTSTART:19701025T030000
RRULE:FREQ=YEARLY;INTERVAL=1;BYDAY=-1SU;BYMONTH=10
END:STANDARD
END:VTIMEZONE
BEGIN:VEVENT
UID:aa9ea383f1a141c71c9682a51ab9442a@www.gruene-stadt-kitzingen.de
URL;VALUE=URI:https://www.gruene-stadt-kitzingen.de/termine/kidical-maas-
 fahrraddemo/
LOCATION:Vor dem Landratsamt, Kaiserstr. 4, Kitzingen
SUMMARY:Kidical Mass – Fahrraddemo
DESCRIPTION;ALTREP="data:text/html,%0A%3Cp%3EDie%20globale%20Kidical%20Ma
 ss-Bewegung%20steht%20f%C3%BCr%20sichere%2C%20kinderfreundliche%20Stra%C3
 %9Fen%20und%20daf%C3%BCr%2C%20dass%20sich%20Kinder%20und%20Jugendliche%20
 selbstst%C3%A4ndig%20und%20angstfrei%20mit%20dem%20Fahrrad%20bewegen%20k%
 C3%B6nnen.%20Sie%20setzt%20sich%20f%C3%BCr%20bessere%20Radinfrastruktur%2
 C%20Verkehrsberuhigung%20und%20mehr%20R%C3%BCcksicht%20im%20Stra%C3%9Fenv
 erkehr%20ein.%20Und%20das%20wollen%20wir%20auch%20in%20der%20kinderfreund
 lichen%20Kommune%20Kitzingen%20voranbringen.%3C%2Fp%3E%0A%0A%0A%0A%3Cp%3E
 Gerade%20weil%20das%20Fahrrad%20f%C3%BCr%20viele%20Kinder%20und%20Jugendl
 iche%20oft%20das%20einzige%20Verkehrsmittel%20ist%2C%20das%20sie%20eigens
 t%C3%A4ndig%20nutzen%20k%C3%B6nnen%2C%20hat%20es%20eine%20zentrale%20Bede
 utung%20f%C3%BCr%20ihre%20Entwicklung%3A%20Sie%20lernen%2C%20Verantwortun
 g%20zu%20%C3%BCbernehmen%2C%20Wege%20selbst%20zu%20organisieren%20und%20g
 ewinnen%20Vertrauen%20in%20die%20eigenen%20F%C3%A4higkeiten.%3C%2Fp%3E%0A
 %0A%0A%0A%3Cp%3EStartpunkt%20der%20Radl-Demo%20ist%20um%2011.00%20Uhr%20a
 uf%20dem%20Platz%20der%20Partnerst%C3%A4dte%20vor%20der%20evangelischen%2
 0Stadtkirche.%20Dort%20gibt%20es%20eine%20kurze%20Auftaktkundgebung%20bev
 or%20wir%20uns%20auf%20den%20Weg%20machen.%3C%2Fp%3E%0A%0A%0A%0A%3Cp%3EDi
 e%20Strecke%20f%C3%BChrt%20einmal%20rund%20um%20die%20Kitzinger%20Innenst
 adt%20zur%C3%BCck%20zum%20Platz%20der%20Partnerst%C3%A4dte.%20Anschlie%C3
 %9Fend%20k%C3%B6nnen%20gro%C3%9Fe%20und%20kleine%20Radler%20ihr%20Geschic
 k%20auf%20einem%20Fahrradparcours%20testen.%20Die%20Strecke%20betr%C3%A4g
 t%204%2C5%20km%20und%20ist%20damit%20auch%20f%C3%BCr%20j%C3%BCngere%20Rad
 lerinnen%20und%20Radler%20mit%20ihren%20Eltern%20geeignet.%20Der%20Beglei
 tschutz%20durch%20die%20Polizei%20ist%20bereits%20zugesagt.%20Am%20Ende%2
 0gibt%20es%20einen%20Parcours%20f%C3%BCr%20Kinder.%3C%2Fp%3E%0A%0A%0A%0A%
 3Cp%3EOrganisiert%20wird%20die%20Demo%20von%20der%20Interessengemeinschaf
 t%20Sicher.Radeln.Kitzingen.%20Dieser%20Zusammenschluss%20dem%20%C3%B6kol
 ogischen%20Verkehrsclub%20Deutschlands%20%28VCD%29%2C%20des%20Allgemeinen
 %20Deutschen%20Fahrradclubs%20%28ADFC%29%20und%20B%C3%9CNDNIS%2090%2FDIE%
 20GR%C3%9CNEN%20setzt%20sich%20seit%20Jahren%20f%C3%BCr%20sicheren%20%28R
 ad%29Verkehr%20in%20und%20um%20Kitzingen%20ein.%3C%2Fp%3E%0A%0A%0A%0A%3Cp
 %3EWir%20hoffen%20f%C3%BCr%20die%20Demo%20auf%20zahlreiche%20Kinder%2C%20
 Eltern%20und%20Unterst%C3%BCtzer%2Ainnen.%20Eine%20Anmeldung%20ist%20nich
 t%20erforderlich%2C%20die%20Veranstaltung%20ist%20kostenfrei.%3C%2Fp%3E%0
 A%0A%0A%0A%3Cp%3E%3C%2Fp%3E%0A":Die globale Kidical Mass-Bewegung steht f
 ür sichere\, kinderfreundliche Straßen und dafür\, dass sich Kinder un
 d Jugendliche selbstständig und angstfrei mit dem Fahrrad bewegen könne
 n. Sie setzt sich für bessere Radinfrastruktur\, Verkehrsberuhigung und 
 mehr Rücksicht im Straßenverkehr ein. Und das wollen wir auch in der ki
 nderfreundlichen Kommune Kitzingen voranbringen.\n\nGerade weil das Fahrr
 ad für viele Kinder und Jugendliche oft das einzige Verkehrsmittel ist\,
  das sie eigenständig nutzen können\, hat es eine zentrale Bedeutung f
 ür ihre Entwicklung: Sie lernen\, Verantwortung zu übernehmen\, Wege se
 lbst zu organisieren und gewinnen Vertrauen in die eigenen Fähigkeiten.\
 n\nStartpunkt der Radl-Demo ist um 11.00 Uhr auf dem Platz der Partnerst
 ädte vor der evangelischen Stadtkirche. Dort gibt es eine kurze Auftaktk
 undgebung bevor wir uns auf den Weg machen.\n\nDie Strecke führt einmal 
 rund um die Kitzinger Innenstadt zurück zum Platz der Partnerstädte. An
 schließend können große und kleine Radler ihr Geschick auf einem Fahrr
 adparcours testen. Die Strecke beträgt 4\,5 km und ist damit auch für j
 üngere Radlerinnen und Radler mit ihren Eltern geeignet. Der Begleitschu
 tz durch die Polizei ist bereits zugesagt. Am Ende gibt es einen Parcours
  für Kinder.\n\nOrganisiert wird die Demo von der Interessengemeinschaft
  Sicher.Radeln.Kitzingen. Dieser Zusammenschluss dem ökologischen Verkeh
 rsclub Deutschlands (VCD)\, des Allgemeinen Deutschen Fahrradclubs (ADFC)
  und BÜNDNIS 90/DIE GRÜNEN setzt sich seit Jahren für sicheren (Rad)Ve
 rkehr in und um Kitzingen ein.\n\nWir hoffen für die Demo auf zahlreiche
  Kinder\, Eltern und Unterstützer*innen. Eine Anmeldung ist nicht erford
 erlich\, die Veranstaltung ist kostenfrei.
CLASS:PUBLIC
DTSTART;TZID=Europe/Berlin:20260509T110000
DTEND;TZID=Europe/Berlin:20260509T120000
DTSTAMP:20260420T100126
END:VEVENT
BEGIN:VEVENT
UID:4df9cfb1ead350c6509724707b11f067@www.gruene-stadt-kitzingen.de
URL;VALUE=URI:https://www.gruene-stadt-kitzingen.de/termine/konstituieren
 de-stadtratssitzung/
LOCATION:Alte Synagoge, Schrannenstraße / Landwehrplatz
SUMMARY:Konstituierende Stadtratssitzung
DESCRIPTION;ALTREP="data:text/html,":
CLASS:PUBLIC
DTSTART;TZID=Europe/Berlin:20260512T180000
DTEND;TZID=Europe/Berlin:20260512T210000
DTSTAMP:20260420T100126
END:VEVENT
BEGIN:VEVENT
UID:1a47be6786870fa2bf2e4e71d37ea83b@www.gruene-stadt-kitzingen.de
URL;VALUE=URI:https://www.gruene-stadt-kitzingen.de/termine/ortsverbandss
 itzung/
LOCATION:GRÜN.Raum, Kaiserstr. 1, 97318 Kitzingen
SUMMARY:Sitzung des Ortsverbandes Kitzingen
DESCRIPTION;ALTREP="data:text/html,%0A%3Cp%3Eum%2019.15%20Uhr%20im%20Gr%C
 3%BCnraum%2C%20Kaiserstr.%201%2C%2097318%20Kitzingen%3C%2Fp%3E%0A%0A%0A%0
 A%3Cp%3E%3C%2Fp%3E%0A":um 19.15 Uhr im Grünraum\, Kaiserstr. 1\, 97318 K
 itzingen
CLASS:PUBLIC
DTSTART;TZID=Europe/Berlin:20260520T191500
DTEND;TZID=Europe/Berlin:20260520T201500
DTSTAMP:20260420T100126
END:VEVENT
BEGIN:VEVENT
UID:800c9e7abdb7880d5429f7426b41318d@www.gruene-stadt-kitzingen.de
URL;VALUE=URI:https://www.gruene-stadt-kitzingen.de/termine/gruenes-somme
 rfest/
LOCATION:
SUMMARY:Grünes Sommerfest
DESCRIPTION;ALTREP="data:text/html,%0A%3Ch1%20class%3D%22wp-block-heading
 %22%3E%3C%2Fh1%3E%0A%0A%0A%0A%3Cp%3EWie%20jedes%20Jahr%20laden%20wir%20Gr
 %C3%BCnen%20Kitzingen%20zu%20einer%20sommerlichen%20Feier%20mit%20der%20%
 C3%96ffentlichkeit%20ein.%20Programm%20und%20Location%20folgen%20noch%21%
 3C%2Fp%3E%0A%0A%0A%0A%3Cp%3E%3C%2Fp%3E%0A":Wie jedes Jahr laden wir Grün
 en Kitzingen zu einer sommerlichen Feier mit der Öffentlichkeit ein. Pro
 gramm und Location folgen noch!
CLASS:PUBLIC
DTSTART;TZID=Europe/Berlin:20260710
DTEND;TZID=Europe/Berlin:20260711
DTSTAMP:20260420T100126
END:VEVENT
BEGIN:VEVENT
UID:00b158d61110abe233c0f0522c2207e2@www.gruene-stadt-kitzingen.de
URL;VALUE=URI:https://www.gruene-stadt-kitzingen.de/termine/parking-day-2
 026/
LOCATION:
SUMMARY:Parking Day 2026
DESCRIPTION;ALTREP="data:text/html,%0A%3Cp%3EWir%20holen%20uns%20die%20St
 ra%C3%9Fe%20zur%C3%BCck%21%3C%2Fp%3E%0A%0A%0A%0A%3Cp%3EAn%20diesem%20Tag%
 20verwandelt%20unsere%20Interessengemeinschaft%20%E2%80%9ESicher.%20Radel
 n.%20Kitzingen%E2%80%9C%20wieder%20einige%20Parkpl%C3%A4tze%20in%20der%20
 Kaiserstra%C3%9Fe%20in%20eine%20%3Cstrong%3Egr%C3%BCne%20Oase%20mit%20Rau
 m%20f%C3%BCr%20Begegnungen%2C%20Spiele%2C%20Tanz%20und%20Musik%3C%2Fstron
 g%3E.%20Kaiserstr%20-%20Kitzingen%3C%2Fp%3E%0A%0A%0A%0A%3Ch3%20class%3D%2
 2wp-block-heading%22%3EKomm%20vorbei%20und%20lass%20dich%20%C3%BCberrasch
 en%21%3C%2Fh3%3E%0A%0A%0A%0A%3Cul%20class%3D%22wp-block-list%22%3E%0A%3Cl
 i%3EZeit%20f%C3%BCr%20Ideen%20und%20Gespr%C3%A4che%3C%2Fli%3E%0A%0A%0A%0A
 %3Cli%3ESpielen%20auf%20der%20Stra%C3%9Fe%3C%2Fli%3E%0A%0A%0A%0A%3Cli%3EM
 usik%20und%20Tanz%3C%2Fli%3E%0A%0A%0A%0A%3Cli%3EAktionen%3C%2Fli%3E%0A%3C
 %2Ful%3E%0A%0A%0A%0A%3Cp%3EBei%20schlechtem%20Wetter%20%C3%B6ffnen%20wir%
 20den%20GR%C3%9CN.Raum%20in%20der%20Kaiserstr.%201.%3Cbr%3E%3Cbr%3E%3Cbr%
 3E%3Cbr%3E%3Cbr%3E%3Cbr%3E%3Cbr%3E%3Cbr%3E%3Cbr%3E%3Cbr%3E%3Cbr%3E%3Cbr%3
 E%3Cbr%3E%3Cbr%3E%3Ch2%20class%3D%22wp-block-heading%22%3EWir%20holen%20u
 ns%20die%20Stra%C3%9Fe%20zur%C3%BCck%21%3C%2Fh2%3E%3Cp%3EAn%20diesem%20Ta
 g%20verwandelt%20unsere%20Interessengemeinschaft%20%E2%80%9ESicher.%20Rad
 eln.%20Kitzingen%E2%80%9C%20wieder%20einige%20Parkpl%C3%A4tze%20in%20der%
 20Kaiserstra%C3%9Fe%20in%20eine%20%3Cstrong%3Egr%C3%BCne%20Oase%20mit%20R
 aum%20f%C3%BCr%20Begegnungen%2C%20Spiele%2C%20Tanz%20und%20Musik%3C%2Fstr
 ong%3E.%20%3C%2Fp%3E%3Ch3%20class%3D%22wp-block-heading%22%3EKomm%20vorbe
 i%20und%20lass%20dich%20%C3%BCberraschen%21%3Cli%3EZeit%20f%C3%BCr%20Idee
 n%20und%20Gespr%C3%A4cheSpielen%20auf%20der%20Stra%C3%9FeMusik%20und%20Ta
 nzAktionen%3C%2Fli%3E%3C%2Fh3%3E%3Cp%3EBei%20schlechtem%20Wetter%20%C3%B6
 ffnen%20wir%20den%20GR%C3%9CN.Raum%20in%20der%20Kaiserstr.%201.%3C%2Fp%3E
 %3C%2Fp%3E%0A%0A%0A%0A%3Cp%3E%3C%2Fp%3E%0A":Wir holen uns die Straße zur
 ück!\n\nAn diesem Tag verwandelt unsere Interessengemeinschaft „Sicher
 . Radeln. Kitzingen“ wieder einige Parkplätze in der Kaiserstraße in 
 eine grüne Oase mit Raum für Begegnungen\, Spiele\, Tanz und Musik. Kai
 serstr - Kitzingen\n\nKomm vorbei und lass dich überraschen!\n\nZeit fü
 r Ideen und Gespräche\n\nSpielen auf der Straße\n\nMusik und Tanz\n\nAk
 tionen\n\nBei schlechtem Wetter öffnen wir den GRÜN.Raum in der Kaisers
 tr. 1.Wir holen uns die Straße zurück!An diesem Tag verwandelt unsere I
 nteressengemeinschaft „Sicher. Radeln. Kitzingen“ wieder einige Parkp
 lätze in der Kaiserstraße in eine grüne Oase mit Raum für Begegnungen
 \, Spiele\, Tanz und Musik. Komm vorbei und lass dich überraschen!Zeit f
 ür Ideen und GesprächeSpielen auf der StraßeMusik und TanzAktionenBei 
 schlechtem Wetter öffnen wir den GRÜN.Raum in der Kaiserstr. 1.
CLASS:PUBLIC
DTSTART;TZID=Europe/Berlin:20260918T140000
DTEND;TZID=Europe/Berlin:20260918T173000
DTSTAMP:20260420T100126
END:VEVENT
END:VCALENDAR