BEGIN:VCALENDAR
VERSION:2.0
PRODID:www.gruene-stadt-kitzingen.de
METHOD:PUBLISH
BEGIN:VTIMEZONE
TZID:Europe/Berlin
X-LIC-LOCATION:Europe/Berlin
BEGIN:DAYLIGHT
TZOFFSETFROM:+0100
TZOFFSETTO:+0200
TZNAME:CEST
DTSTART:19700329T020000
RRULE:FREQ=YEARLY;INTERVAL=1;BYDAY=-1SU;BYMONTH=3
END:DAYLIGHT
BEGIN:STANDARD
TZOFFSETFROM:+0200
TZOFFSETTO:+0100
TZNAME:CET
DTSTART:19701025T030000
RRULE:FREQ=YEARLY;INTERVAL=1;BYDAY=-1SU;BYMONTH=10
END:STANDARD
END:VTIMEZONE
BEGIN:VEVENT
UID:e16e43c2e7c64d26a35c883146177937@www.gruene-stadt-kitzingen.de
URL;VALUE=URI:https://www.gruene-stadt-kitzingen.de/termine/frauen-in-mae
 nnerberufen/
LOCATION:GRÜN.Raum, Kaiserstraße 1, Kitzingen
SUMMARY:Frauen in „Männerberufen“
DESCRIPTION;ALTREP="data:text/html,%0A%3Ch2%20class%3D%22wp-block-heading
 %22%3EAm%20Girls%20Day%20zu%20Gast%20auf%20dem%20GR%C3%9CNEN%20Sofa%3A%20
 Eine%20Feuerwehrfrau%20und%20eine%20F%C3%B6rsterin%3C%2Fh2%3E%0A%0A%0A%0A
 %3Cdiv%20style%3D%22height%3A50px%22%20aria-hidden%3D%22true%22%20class%3
 D%22wp-block-spacer%22%3E%3C%2Fdiv%3E%0A%0A%0A%0A%3Cp%3EDer%20Girls%20Day
 %20ist%20dazu%20da%2C%20dass%20Sch%C3%BCler%2Ainnen%20bewusst%20mal%20in%
 20Berufe%20hineinschnuppern%2C%20die%20eigentlich%20eher%20eine%20%22M%C3
 %A4nnerdom%C3%A4ne%22%20sind.%20Nach%20diesem%20Schnuppertag%20laden%20wi
 r%20Euch%20ein%20zu%20einer%20Talkrunde%20mit%20Frauen%2C%20die%20mit%20B
 egeisterung%20einen%20Beruf%20aus%C3%BCben%2C%20der%20traditionell%20%20e
 her%20ein%20%22M%C3%A4nnerberuf%22%20ist.%3C%2Fp%3E%0A%0A%0A%0A%3Ch3%20cl
 ass%3D%22wp-block-heading%22%3EEure%20Zukunft%20liegt%20uns%20am%20Herzen
 %3C%2Fh3%3E%0A%0A%0A%0A%3Cp%3E%3C%2Fp%3E%0A%0A%0A%0A%3Cdiv%20class%3D%22w
 p-block-columns%20is-layout-flex%20wp-container-core-columns-is-layout-9d
 6595d7%20wp-block-columns-is-layout-flex%22%3E%0A%3Cdiv%20class%3D%22wp-b
 lock-column%20is-layout-flow%20wp-block-column-is-layout-flow%22%3E%0A%3C
 figure%20class%3D%22wp-block-image%20size-large%22%3E%3Ca%20href%3D%22htt
 ps%3A%2F%2Fwww.gruene-dettelbach-schwarzach.de%2F%22%20target%3D%22_blank
 %22%20rel%3D%22noreferrer%20noopener%22%3E%3Cimg%20src%3D%22https%3A%2F%2
 Fwww.gruene-stadt-kitzingen.de%2Fwp-content%2Fuploads%2F2023%2F04%2FEva-M
 aria-Stoecklein-800x1066.jpg%22%20alt%3D%22%22%20class%3D%22wp-image-6259
 %22%20%2F%3E%3C%2Fa%3E%3Cfigcaption%20class%3D%22wp-element-caption%22%3E
 Berufsfeuerwehrfrau%20Eva-Maria%20St%C3%B6cklein%3C%2Ffigcaption%3E%3C%2F
 figure%3E%0A%3C%2Fdiv%3E%0A%0A%0A%0A%3Cdiv%20class%3D%22wp-block-column%2
 0is-layout-flow%20wp-block-column-is-layout-flow%22%3E%0A%3Cp%3E%3Ca%20hr
 ef%3D%22https%3A%2F%2Fwww.gruene-dettelbach-schwarzach.de%2F%22%20target%
 3D%22_blank%22%20rel%3D%22noreferrer%20noopener%22%3EEva-Maria%20St%C3%B6
 cklein%3C%2Fa%3E%20arbeitet%20seit%20mehr%20als%204%20Jahren%20bei%20der%
 20Berufsfeuerwehr%20Frankfurt-Sachsenhausen.%20Dort%20arbeiten%20neben%20
 ihr%20mehr%20als%2060%20M%C3%A4nner.%20Im%20mittleren%20feuerwehrtechnisc
 hen%20Dienst%20macht%20frau%3Cbr%3Egenau%20das%2C%20was%20man%20sich%20un
 ter%20Feuerwehr%20vorstellt%3A%20retten%2C%20l%C3%B6schen%2C%20bergen%2C%
 20sch%C3%BCtzen.%20Das%20Feuerwehrauto%20mit%20Blaulicht%20durch%20die%20
 Innenstadt%20fahren%20ist%20genauso%20Teil%20des%20Jobs%2C%20wie%20Feuer%
 20zu%20l%C3%B6schen%20und%20sich%20zu%20Wohnungen%20Zutritt%20zu%20versch
 affen%2C%20in%20denen%20eine%20verletzte%20Person%20liegt.%3C%2Fp%3E%0A%0
 A%0A%0A%3Cp%3EEva-Maria%20St%C3%B6cklein%20ist%20auch%20Stadtr%C3%A4tin%2
 0in%20Dettelbach%20und%20unsere%20Direktkandidatin%20f%C3%BCr%20die%20Bez
 irkswahlen%202023.%3C%2Fp%3E%0A%3C%2Fdiv%3E%0A%3C%2Fdiv%3E%0A%0A%0A%0A%3C
 div%20class%3D%22wp-block-columns%20is-layout-flex%20wp-container-core-co
 lumns-is-layout-9d6595d7%20wp-block-columns-is-layout-flex%22%3E%0A%3Cdiv
 %20class%3D%22wp-block-column%20is-layout-flow%20wp-block-column-is-layou
 t-flow%22%3E%0A%3Cdiv%20style%3D%22height%3A15px%22%20aria-hidden%3D%22tr
 ue%22%20class%3D%22wp-block-spacer%22%3E%3C%2Fdiv%3E%0A%0A%0A%0A%3Cp%3E%3
 C%2Fp%3E%0A%0A%0A%0A%3Cp%3E%3C%2Fp%3E%0A%0A%0A%0A%3Cp%3EForstwirtin%20Sop
 hia%20Puchner%20hat%20in%20Erfurt%20an%20der%20FH%20Forstwirtschaft%20und
 %20%C3%96kosystemmanagement%20studiert%20und%20arbeitet%20beim%20Amt%20f%
 C3%BCr%20Ern%C3%A4hrung%2C%20Landwirtschaft%20und%20Forsten%20%28AELF%29%
 20Kitzingen-W%C3%BCrzburg%2C%20z.Z.%20ist%20sie%20revierunterst%C3%BCtzen
 d%2050%20%25%20im%20Revier%20K%C3%BCrnach%20%28Kitzingen%29%20und%2050%25
 %20im%20Revier%20Waldb%C3%BCttelbrunn%20%28W%C3%BCrzburg%29%20t%C3%A4tig.
 %3C%2Fp%3E%0A%3C%2Fdiv%3E%0A%0A%0A%0A%3Cdiv%20class%3D%22wp-block-column%
 20is-layout-flow%20wp-block-column-is-layout-flow%22%3E%0A%3Cfigure%20cla
 ss%3D%22wp-block-image%20size-full%22%3E%3Cimg%20src%3D%22https%3A%2F%2Fw
 ww.gruene-stadt-kitzingen.de%2Fwp-content%2Fuploads%2F2023%2F04%2FSophia-
 Puchner_remove.png%22%20alt%3D%22%22%20class%3D%22wp-image-6276%22%20%2F%
 3E%3C%2Ffigure%3E%0A%3C%2Fdiv%3E%0A%3C%2Fdiv%3E%0A%0A%0A%0A%3Cp%3E%3C%2Fp
 %3E%0A%0A%0A%0A%3Cp%3EW%C3%A4hrend%20und%20nach%20dem%20Interview%20k%C3%
 B6nnt%20Ihr%20gerne%20Fragen%20stellen%2C%20die%20Euch%20bei%20der%20Beru
 fswahl%20auf%20dem%20Herzen%20liegen.%20Eine%20Anmeldung%20ist%20nicht%20
 notwendig.%20Bringt%20gerne%20Eure%20Freundinnen%20mit%21%20Es%20gibt%20a
 uch%20%3Cstrong%3EPizza%3C%2Fstrong%3E.%20Da%20plaudert%20es%20sich%20bes
 ser.%3C%2Fp%3E%0A%0A%0A%0A%3Cp%3EAuch%20Frauen%2C%20die%20schon%20im%20Be
 rufsleben%20stehen%2C%20d%C3%BCrfen%20nat%C3%BCrlich%20gerne%20vorbeikomm
 en%20und%20sich%20inspirieren%20lassen.%3C%2Fp%3E%0A%0A%0A%0A%3Cdiv%20dat
 a-wp-interactive%3D%22core%2Ffile%22%20class%3D%22wp-block-file%20alignce
 nter%22%3E%3Cobject%20data-wp-bind--hidden%3D%22%21state.hasPdfPreview%22
 %20hidden%20class%3D%22wp-block-file__embed%22%20data%3D%22https%3A%2F%2F
 www.gruene-stadt-kitzingen.de%2Fwp-content%2Fuploads%2F2023%2F04%2FTalkru
 nde-Plakat_canva.pdf%22%20type%3D%22application%2Fpdf%22%20style%3D%22wid
 th%3A100%25%3Bheight%3A600px%22%20aria-label%3D%22Einbettung%20von%20Flye
 r%20%26quot%3BFrauen%20in%20M%C3%A4nnerberufen%26quot%3B.%22%3E%3C%2Fobje
 ct%3E%3Ca%20id%3D%22wp-block-file--media-247e370b-034f-4a97-81ff-bc6d2b7a
 acba%22%20href%3D%22https%3A%2F%2Fwww.gruene-stadt-kitzingen.de%2Fwp-cont
 ent%2Fuploads%2F2023%2F04%2FTalkrunde-Plakat_canva.pdf%22%3EFlyer%20%22Fr
 auen%20in%20M%C3%A4nnerberufen%22%3C%2Fa%3E%3Ca%20href%3D%22https%3A%2F%2
 Fwww.gruene-stadt-kitzingen.de%2Fwp-content%2Fuploads%2F2023%2F04%2FTalkr
 unde-Plakat_canva.pdf%22%20class%3D%22wp-block-file__button%20wp-element-
 button%22%20download%20aria-describedby%3D%22wp-block-file--media-247e370
 b-034f-4a97-81ff-bc6d2b7aacba%22%3EHerunterladen%3C%2Fa%3E%3C%2Fdiv%3E%0A
 %0A%0A%0A%3Cdiv%20style%3D%22height%3A15px%22%20aria-hidden%3D%22true%22%
 20class%3D%22wp-block-spacer%22%3E%3C%2Fdiv%3E%0A":Am Girls Day zu Gast a
 uf dem GRÜNEN Sofa: Eine Feuerwehrfrau und eine Försterin\n\nDer Girls 
 Day ist dazu da\, dass Schüler*innen bewusst mal in Berufe hineinschnupp
 ern\, die eigentlich eher eine "Männerdomäne" sind. Nach diesem Schnupp
 ertag laden wir Euch ein zu einer Talkrunde mit Frauen\, die mit Begeiste
 rung einen Beruf ausüben\, der traditionell  eher ein "Männerberuf" ist
 .\n\nEure Zukunft liegt uns am Herzen\n\nBerufsfeuerwehrfrau Eva-Maria St
 öcklein\n\nEva-Maria Stöcklein arbeitet seit mehr als 4 Jahren bei der 
 Berufsfeuerwehr Frankfurt-Sachsenhausen. Dort arbeiten neben ihr mehr als
  60 Männer. Im mittleren feuerwehrtechnischen Dienst macht fraugenau das
 \, was man sich unter Feuerwehr vorstellt: retten\, löschen\, bergen\, s
 chützen. Das Feuerwehrauto mit Blaulicht durch die Innenstadt fahren ist
  genauso Teil des Jobs\, wie Feuer zu löschen und sich zu Wohnungen Zutr
 itt zu verschaffen\, in denen eine verletzte Person liegt.\n\nEva-Maria S
 töcklein ist auch Stadträtin in Dettelbach und unsere Direktkandidatin 
 für die Bezirkswahlen 2023.\n\nForstwirtin Sophia Puchner hat in Erfurt 
 an der FH Forstwirtschaft und Ökosystemmanagement studiert und arbeitet 
 beim Amt für Ernährung\, Landwirtschaft und Forsten (AELF) Kitzingen-W
 ürzburg\, z.Z. ist sie revierunterstützend 50 % im Revier Kürnach (Kit
 zingen) und 50% im Revier Waldbüttelbrunn (Würzburg) tätig.\n\nWähren
 d und nach dem Interview könnt Ihr gerne Fragen stellen\, die Euch bei d
 er Berufswahl auf dem Herzen liegen. Eine Anmeldung ist nicht notwendig. 
 Bringt gerne Eure Freundinnen mit! Es gibt auch Pizza. Da plaudert es sic
 h besser.\n\nAuch Frauen\, die schon im Berufsleben stehen\, dürfen nat
 ürlich gerne vorbeikommen und sich inspirieren lassen.\n\nFlyer "Frauen 
 in Männerberufen"Herunterladen
CLASS:PUBLIC
DTSTART;TZID=Europe/Berlin:20230427T180000
DTEND;TZID=Europe/Berlin:20230427T200000
DTSTAMP:20260419T124924
END:VEVENT
END:VCALENDAR